BEGIN:VCALENDAR
VERSION:2.0
CALSCALE:GREGORIAN
BEGIN:VEVENT
DTSTAMP:20260423T173808
DTSTART:20260530T140000
DTEND:20260530T180000
SUMMARY:Distill America XVIII
DESCRIPTION:Event Info: https://www.localwineevents.com/view/event/distill-america-xviii/1003120
LOCATION:Breese Stevens Field -- 917 E Mifflin St Madison, WI 53703
STATUS:CONFIRMED
SEQUENCE:0
TRANSP:OPAQUE
END:VEVENT
END:VCALENDAR
