BEGIN:VCALENDAR
VERSION:2.0
CALSCALE:GREGORIAN
BEGIN:VEVENT
DTSTAMP:20260423T173506
DTSTART:20260613T130000
DTEND:20260613T170000
SUMMARY:2026 Sip  Savor Wisconsin
DESCRIPTION:Event Info: https://www.localwineevents.com/view/event/2026-sip-savor-wisconsin/1003117
LOCATION:The Bavarian Bierhaus -- 700 W Lexington Blvd Glendale, WI 53217
STATUS:CONFIRMED
SEQUENCE:0
TRANSP:OPAQUE
END:VEVENT
END:VCALENDAR
