BEGIN:VCALENDAR
VERSION:2.0
CALSCALE:GREGORIAN
BEGIN:VEVENT
DTSTAMP:20260423T030644
DTSTART:20260503T104500
DTEND:20260503T170500
SUMMARY:The Perfect Double: Bubbles  Fried Chicken, Pinot Noir  Pulled Pork
DESCRIPTION:Event Info: https://www.localwineevents.com/view/event/the-perfect-double-bubbles-fried-chicken-pinot-noir-pulled-pork/1003113
LOCATION:Davies Vineyards -- 1210 Grayson Avenue St. Helena, CA 94574
STATUS:CONFIRMED
SEQUENCE:0
TRANSP:OPAQUE
END:VEVENT
END:VCALENDAR
