BEGIN:VCALENDAR
VERSION:2.0
CALSCALE:GREGORIAN
BEGIN:VEVENT
DTSTAMP:20260422T195109
DTSTART:20260425T110000
DTEND:20260425T210000
SUMMARY:Comfort Kitchen  Cone Appetit With Ryan Cassidy Live At Bishop Estate
DESCRIPTION:Event Info: https://www.localwineevents.com/view/event/comfort-kitchen-cone-appetit-with-ryan-cassidy-live-at-bishop-estate/1003107
LOCATION:Bishop Estate Vineyard and Winery -- 2730 Hilltown Pike Perkasie, Pa 18944
STATUS:CONFIRMED
SEQUENCE:0
TRANSP:OPAQUE
END:VEVENT
END:VCALENDAR
