BEGIN:VCALENDAR
VERSION:2.0
CALSCALE:GREGORIAN
BEGIN:VEVENT
DTSTAMP:20260423T085136
DTSTART:20260522T180000
DTEND:20260522T200000
SUMMARY:2023 Grand Mlange Pre-Release Dinner
DESCRIPTION:Event Info: https://www.localwineevents.com/view/event/2023-grand-mlange-pre-release-dinner/1003106
LOCATION:Cellar Beast Winehouse -- 139 ASH CIRCLE Andreas, PA 18211
STATUS:CONFIRMED
SEQUENCE:0
TRANSP:OPAQUE
END:VEVENT
END:VCALENDAR
