BEGIN:VCALENDAR
VERSION:2.0
CALSCALE:GREGORIAN
BEGIN:VEVENT
DTSTAMP:20260422T214608
DTSTART:20260521T120000
DTEND:20260521T180000
SUMMARY:National Chardonnay Day
DESCRIPTION:Event Info: https://www.localwineevents.com/view/event/national-chardonnay-day/1003104
LOCATION:Riverbench Santa Barbara Tasting Room -- 137 Anacapa street Santa Barbara, CA 93101
STATUS:CONFIRMED
SEQUENCE:0
TRANSP:OPAQUE
END:VEVENT
END:VCALENDAR
