BEGIN:VCALENDAR
VERSION:2.0
CALSCALE:GREGORIAN
BEGIN:VEVENT
DTSTAMP:20260422T214425
DTSTART:20260510T120000
DTEND:20260510T170000
SUMMARY:Sandspit Oyster Pop Up
DESCRIPTION:Event Info: https://www.localwineevents.com/view/event/sandspit-oyster-pop-up/1003103
LOCATION:Riverbench Santa Barbara Tasting Room -- 137 Anacapa street Santa Barbara, CA 93101
STATUS:CONFIRMED
SEQUENCE:0
TRANSP:OPAQUE
END:VEVENT
END:VCALENDAR
