BEGIN:VCALENDAR
VERSION:2.0
CALSCALE:GREGORIAN
BEGIN:VEVENT
DTSTAMP:20260422T214556
DTSTART:20260510T120000
DTEND:20260510T180000
SUMMARY:Mother\'s Day All Day Happy Hour
DESCRIPTION:Event Info: https://www.localwineevents.com/view/event/mothers-day-all-day-happy-hour/1003102
LOCATION:Riverbench Santa Barbara Tasting Room -- 137 Anacapa street Santa Barbara, CA 93101
STATUS:CONFIRMED
SEQUENCE:0
TRANSP:OPAQUE
END:VEVENT
END:VCALENDAR
