BEGIN:VCALENDAR
VERSION:2.0
CALSCALE:GREGORIAN
BEGIN:VEVENT
DTSTAMP:20260422T181012
DTSTART:20260527T190000
DTEND:20260527T220000
SUMMARY:Darkroom Presets: A Night With Story Of Soil And Wine Maker Jessica Gasca
DESCRIPTION:Event Info: https://www.localwineevents.com/view/event/darkroom-presets-a-night-with-story-of-soil-and-wine-maker-jessica-gasca/1003101
LOCATION:Darkroom -- 3751 South Harbor Blvd Santa Ana, CA 92704
STATUS:CONFIRMED
SEQUENCE:0
TRANSP:OPAQUE
END:VEVENT
END:VCALENDAR
