BEGIN:VCALENDAR
VERSION:2.0
CALSCALE:GREGORIAN
BEGIN:VEVENT
DTSTAMP:20260422T180854
DTSTART:20260510T110000
DTEND:20260510T140000
SUMMARY:Mothers Day Brunch @ DARKROOM 2026
DESCRIPTION:Event Info: https://www.localwineevents.com/view/event/mothers-day-brunch-darkroom-2026/1003100
LOCATION:Darkroom -- 3751 South Harbor Blvd Santa Ana, CA 92704
STATUS:CONFIRMED
SEQUENCE:0
TRANSP:OPAQUE
END:VEVENT
END:VCALENDAR
