BEGIN:VCALENDAR
VERSION:2.0
CALSCALE:GREGORIAN
BEGIN:VEVENT
DTSTAMP:20260422T180854
DTSTART:20260509T120000
DTEND:20260509T160000
SUMMARY:Portuguese Tinned Fish And Wine Tasting
DESCRIPTION:Event Info: https://www.localwineevents.com/view/event/portuguese-tinned-fish-and-wine-tasting/1003098
LOCATION:Cornell Wine Co. -- 29975 Mulholland Highway Old Agoura, CA 91301
STATUS:CONFIRMED
SEQUENCE:0
TRANSP:OPAQUE
END:VEVENT
END:VCALENDAR
