BEGIN:VCALENDAR
VERSION:2.0
CALSCALE:GREGORIAN
BEGIN:VEVENT
DTSTAMP:20260422T175739
DTSTART:20260501T180000
DTEND:20260501T210000
SUMMARY:An Evening With Chef Carlos Gaytn: Paseo Anniversary Celebration
DESCRIPTION:Event Info: https://www.localwineevents.com/view/event/an-evening-with-chef-carlos-gaytn-paseo-anniversary-celebration/1003096
LOCATION:Paseo -- 1580 Disneyland Drive Anaheim, CA 92802
STATUS:CONFIRMED
SEQUENCE:0
TRANSP:OPAQUE
END:VEVENT
END:VCALENDAR
