BEGIN:VCALENDAR
VERSION:2.0
CALSCALE:GREGORIAN
BEGIN:VEVENT
DTSTAMP:20260422T175727
DTSTART:20260502T110000
DTEND:20260502T140000
SUMMARY:Kentucky Derby Tea At Offshore 9 Rooftop Lounge
DESCRIPTION:Event Info: https://www.localwineevents.com/view/event/kentucky-derby-tea-at-offshore-9-rooftop-lounge/1003095
LOCATION:Offshore 9 Rooftop Lounge -- 21100 Pacific Coast Highway Huntington Beach, CA 92648
STATUS:CONFIRMED
SEQUENCE:0
TRANSP:OPAQUE
END:VEVENT
END:VCALENDAR
