BEGIN:VCALENDAR
VERSION:2.0
CALSCALE:GREGORIAN
BEGIN:VEVENT
DTSTAMP:20260422T175819
DTSTART:20260510T100000
DTEND:20260510T130000
SUMMARY:Brunch Above The Blue: A Mother\'s Day Celebration
DESCRIPTION:Event Info: https://www.localwineevents.com/view/event/brunch-above-the-blue-a-mothers-day-celebration/1003094
LOCATION:Offshore 9 Rooftop Lounge -- 21100 Pacific Coast Highway Huntington Beach, CA 92648
STATUS:CONFIRMED
SEQUENCE:0
TRANSP:OPAQUE
END:VEVENT
END:VCALENDAR
