BEGIN:VCALENDAR
VERSION:2.0
CALSCALE:GREGORIAN
BEGIN:VEVENT
DTSTAMP:20260422T175738
DTSTART:20260507T180000
DTEND:20260507T210000
SUMMARY:Italia Meets Korea
DESCRIPTION:Event Info: https://www.localwineevents.com/view/event/italia-meets-korea/1003093
LOCATION:Bello by Sandro Nardone -- 1200 Bison Ave STE C2 Newport Beach, CA 92600
STATUS:CONFIRMED
SEQUENCE:0
TRANSP:OPAQUE
END:VEVENT
END:VCALENDAR
