BEGIN:VCALENDAR
VERSION:2.0
CALSCALE:GREGORIAN
BEGIN:VEVENT
DTSTAMP:20260422T175727
DTSTART:20260527T180000
DTEND:20260527T210000
SUMMARY:Dal Nord Al Sud Wine Dinner
DESCRIPTION:Event Info: https://www.localwineevents.com/view/event/dal-nord-al-sud-wine-dinner/1003092
LOCATION:Bello by Sandro Nardone -- 1200 Bison Ave STE C2 Newport Beach, CA 92600
STATUS:CONFIRMED
SEQUENCE:0
TRANSP:OPAQUE
END:VEVENT
END:VCALENDAR
