BEGIN:VCALENDAR
VERSION:2.0
CALSCALE:GREGORIAN
BEGIN:VEVENT
DTSTAMP:20260422T214516
DTSTART:20260509T110000
DTEND:20260509T123000
SUMMARY:Mother\'s Day At Nicholson
DESCRIPTION:Event Info: https://www.localwineevents.com/view/event/mothers-day-at-nicholson/1003091
LOCATION:Nicholson Vineyards and Winery -- 2800 Pleasant Valley Road Aptos, CA 95003
STATUS:CONFIRMED
SEQUENCE:0
TRANSP:OPAQUE
END:VEVENT
END:VCALENDAR
