BEGIN:VCALENDAR
VERSION:2.0
CALSCALE:GREGORIAN
BEGIN:VEVENT
DTSTAMP:20260423T005849
DTSTART:20260517T153000
DTEND:20260517T173000
SUMMARY:Meet The Maker: A Conversation In The Vineyard
DESCRIPTION:Event Info: https://www.localwineevents.com/view/event/meet-the-maker-a-conversation-in-the-vineyard/1003089
LOCATION:Holman Ranch -- 60 Holman Rd Carmel Valley, CA 93924
STATUS:CONFIRMED
SEQUENCE:0
TRANSP:OPAQUE
END:VEVENT
END:VCALENDAR
