BEGIN:VCALENDAR
VERSION:2.0
CALSCALE:GREGORIAN
BEGIN:VEVENT
DTSTAMP:20260423T005951
DTSTART:20260516T160000
DTEND:20260516T190000
SUMMARY:La Dolce Vigna Italian Dinner
DESCRIPTION:Event Info: https://www.localwineevents.com/view/event/la-dolce-vigna-italian-dinner/1003088
LOCATION:Calera Winery -- 11300 Cienega Road Hollister, CA 95023
STATUS:CONFIRMED
SEQUENCE:0
TRANSP:OPAQUE
END:VEVENT
END:VCALENDAR
