BEGIN:VCALENDAR
VERSION:2.0
CALSCALE:GREGORIAN
BEGIN:VEVENT
DTSTAMP:20260422T181611
DTSTART:20260501T180000
DTEND:20260501T210000
SUMMARY:An Evening Of White Wines  Coastal Elegance
DESCRIPTION:Event Info: https://www.localwineevents.com/view/event/an-evening-of-white-wines-coastal-elegance/1003087
LOCATION:The Sea by Alexander\'s Steakhouse -- 4269 West El Camino Real Palo Alto, CA 94306
STATUS:CONFIRMED
SEQUENCE:0
TRANSP:OPAQUE
END:VEVENT
END:VCALENDAR
