BEGIN:VCALENDAR
VERSION:2.0
CALSCALE:GREGORIAN
BEGIN:VEVENT
DTSTAMP:20260423T135942
DTSTART:20260530T150000
DTEND:20260530T163000
SUMMARY:Rose All Day
DESCRIPTION:Event Info: https://www.localwineevents.com/view/event/rose-all-day/1003084
LOCATION:Uvae Kitchen  Wine Bar -- 5553 North Clark Street Chicago, IL 60640
STATUS:CONFIRMED
SEQUENCE:0
TRANSP:OPAQUE
END:VEVENT
END:VCALENDAR
