BEGIN:VCALENDAR
VERSION:2.0
CALSCALE:GREGORIAN
BEGIN:VEVENT
DTSTAMP:20260422T163827
DTSTART:20260606T183000
DTEND:20260606T213000
SUMMARY:Barrel Tasting, Gourmet Food  Wine Pairing
DESCRIPTION:Event Info: https://www.localwineevents.com/view/event/barrel-tasting-gourmet-food-wine-pairing/1003083
LOCATION:Stone Cottage Cellars -- 41716 Reds Road Paonia, CO 81428
STATUS:CONFIRMED
SEQUENCE:0
TRANSP:OPAQUE
END:VEVENT
END:VCALENDAR
