BEGIN:VCALENDAR
VERSION:2.0
CALSCALE:GREGORIAN
BEGIN:VEVENT
DTSTAMP:20260423T135959
DTSTART:20260518T183000
DTEND:20260518T203000
SUMMARY:May Wine Dinner With Opici Wines!
DESCRIPTION:Event Info: https://www.localwineevents.com/view/event/may-wine-dinner-with-opici-wines/1003082
LOCATION:Uvae Kitchen  Wine Bar -- 5553 North Clark Street Chicago, IL 60640
STATUS:CONFIRMED
SEQUENCE:0
TRANSP:OPAQUE
END:VEVENT
END:VCALENDAR
