BEGIN:VCALENDAR
VERSION:2.0
CALSCALE:GREGORIAN
BEGIN:VEVENT
DTSTAMP:20260422T163956
DTSTART:20260527T170000
DTEND:20260527T190000
SUMMARY:Oregon Tasting W/ Master Somm Emily Pickral
DESCRIPTION:Event Info: https://www.localwineevents.com/view/event/oregon-tasting-w-master-somm-emily-pickral/1003081
LOCATION:Redneck Wine Company -- 3325 S. MacDill Avenue Tampa, FL 33629
STATUS:CONFIRMED
SEQUENCE:0
TRANSP:OPAQUE
END:VEVENT
END:VCALENDAR
