BEGIN:VCALENDAR
VERSION:2.0
CALSCALE:GREGORIAN
BEGIN:VEVENT
DTSTAMP:20260422T163834
DTSTART:20260517T140000
DTEND:20260517T180000
SUMMARY:Franca\'s Artisan Pizza Pop-Up  Wine Pours
DESCRIPTION:Event Info: https://www.localwineevents.com/view/event/francas-artisan-pizza-pop-up-wine-pours/1003080
LOCATION:Redneck Wine Company -- 3325 S. MacDill Avenue Tampa, FL 33629
STATUS:CONFIRMED
SEQUENCE:0
TRANSP:OPAQUE
END:VEVENT
END:VCALENDAR
