BEGIN:VCALENDAR
VERSION:2.0
CALSCALE:GREGORIAN
BEGIN:VEVENT
DTSTAMP:20260423T135941
DTSTART:20260502T150000
DTEND:20260502T163000
SUMMARY:Slovenian Wines
DESCRIPTION:Event Info: https://www.localwineevents.com/view/event/slovenian-wines/1003077
LOCATION:Uvae Kitchen  Wine Bar -- 5553 North Clark Street Chicago, IL 60640
STATUS:CONFIRMED
SEQUENCE:0
TRANSP:OPAQUE
END:VEVENT
END:VCALENDAR
