BEGIN:VCALENDAR
VERSION:2.0
CALSCALE:GREGORIAN
BEGIN:VEVENT
DTSTAMP:20260422T163828
DTSTART:20260509T140000
DTEND:20260509T170000
SUMMARY:Saturday Sip N\' Shop
DESCRIPTION:Event Info: https://www.localwineevents.com/view/event/saturday-sip-n-shop/1003076
LOCATION:Redneck Wine Company -- 3325 S. MacDill Avenue Tampa, FL 33629
STATUS:CONFIRMED
SEQUENCE:0
TRANSP:OPAQUE
END:VEVENT
END:VCALENDAR
