BEGIN:VCALENDAR
VERSION:2.0
CALSCALE:GREGORIAN
BEGIN:VEVENT
DTSTAMP:20260423T140928
DTSTART:20260425T150000
DTEND:20260425T163000
SUMMARY:International Viognier Day
DESCRIPTION:Event Info: https://www.localwineevents.com/view/event/international-viognier-day/1003075
LOCATION:Uvae Kitchen  Wine Bar -- 5553 North Clark Street Chicago, IL 60640
STATUS:CONFIRMED
SEQUENCE:0
TRANSP:OPAQUE
END:VEVENT
END:VCALENDAR
