BEGIN:VCALENDAR
VERSION:2.0
CALSCALE:GREGORIAN
BEGIN:VEVENT
DTSTAMP:20260422T163835
DTSTART:20260503T140000
DTEND:20260503T170000
SUMMARY:*Pop-Up* Lost Coast Oyster Company Rawsome Bar
DESCRIPTION:Event Info: https://www.localwineevents.com/view/event/pop-up-lost-coast-oyster-company-rawsome-bar/1003074
LOCATION:Redneck Wine Company -- 3325 S. MacDill Avenue Tampa, FL 33629
STATUS:CONFIRMED
SEQUENCE:0
TRANSP:OPAQUE
END:VEVENT
END:VCALENDAR
