BEGIN:VCALENDAR
VERSION:2.0
CALSCALE:GREGORIAN
BEGIN:VEVENT
DTSTAMP:20260422T163835
DTSTART:20260425T143000
DTEND:20260425T173000
SUMMARY:Saturday Sip N\' Shop : Finding France
DESCRIPTION:Event Info: https://www.localwineevents.com/view/event/saturday-sip-n-shop-finding-france/1003072
LOCATION:Redneck Wine Company -- 3325 S. MacDill Avenue Tampa, FL 33629
STATUS:CONFIRMED
SEQUENCE:0
TRANSP:OPAQUE
END:VEVENT
END:VCALENDAR
