BEGIN:VCALENDAR
VERSION:2.0
CALSCALE:GREGORIAN
BEGIN:VEVENT
DTSTAMP:20260423T173451
DTSTART:20260507T180000
DTEND:20260507T193000
SUMMARY:The Wines Of Bill Harlan - Promontory And The Mascot
DESCRIPTION:Event Info: https://www.localwineevents.com/view/event/the-wines-of-bill-harlan---promontory-and-the-mascot/1003070
LOCATION:Waterford Wine  Spirits -- 631 Genesee St Delafield, WI 53018
STATUS:CONFIRMED
SEQUENCE:0
TRANSP:OPAQUE
END:VEVENT
END:VCALENDAR
