BEGIN:VCALENDAR
VERSION:2.0
CALSCALE:GREGORIAN
BEGIN:VEVENT
DTSTAMP:20260423T173337
DTSTART:20260520T180000
DTEND:20260520T193000
SUMMARY:Guardians Of The Old Vines: A Masterclass With Matt Cline
DESCRIPTION:Event Info: https://www.localwineevents.com/view/event/guardians-of-the-old-vines-a-masterclass-with-matt-cline/1003069
LOCATION:Waterford Wine  Spirits -- 6227 McKee Road Fitchburg, WI 53719 Fitchburg, WI 53179
STATUS:CONFIRMED
SEQUENCE:0
TRANSP:OPAQUE
END:VEVENT
END:VCALENDAR
