BEGIN:VCALENDAR
VERSION:2.0
CALSCALE:GREGORIAN
BEGIN:VEVENT
DTSTAMP:20260423T173433
DTSTART:20260618T180000
DTEND:20260618T193000
SUMMARY:Where The Atlantic Breathes Life Into Vine And Glass - Green Spain
DESCRIPTION:Event Info: https://www.localwineevents.com/view/event/where-the-atlantic-breathes-life-into-vine-and-glass---green-spain/1003067
LOCATION:Waterford Wine  Spirits -- 2120 N. Farwell Ave Milwaukee, WI 53202
STATUS:CONFIRMED
SEQUENCE:0
TRANSP:OPAQUE
END:VEVENT
END:VCALENDAR
