BEGIN:VCALENDAR
VERSION:2.0
CALSCALE:GREGORIAN
BEGIN:VEVENT
DTSTAMP:20260423T173304
DTSTART:20260611T180000
DTEND:20260611T193000
SUMMARY:Power  Place: Cabernet Sauvignon Across The World
DESCRIPTION:Event Info: https://www.localwineevents.com/view/event/power-place-cabernet-sauvignon-across-the-world/1003065
LOCATION:Waterford Wine  Spirits -- 6227 McKee Road Fitchburg, WI 53719 Fitchburg, WI 53179
STATUS:CONFIRMED
SEQUENCE:0
TRANSP:OPAQUE
END:VEVENT
END:VCALENDAR
