BEGIN:VCALENDAR
VERSION:2.0
CALSCALE:GREGORIAN
BEGIN:VEVENT
DTSTAMP:20260423T173505
DTSTART:20260604T180000
DTEND:20260604T193000
SUMMARY:Aromatic Whites Around The World
DESCRIPTION:Event Info: https://www.localwineevents.com/view/event/aromatic-whites-around-the-world/1003062
LOCATION:Waterford Wine  Spirits -- 6227 McKee Road Fitchburg, WI 53719 Fitchburg, WI 53179
STATUS:CONFIRMED
SEQUENCE:0
TRANSP:OPAQUE
END:VEVENT
END:VCALENDAR
