BEGIN:VCALENDAR
VERSION:2.0
CALSCALE:GREGORIAN
BEGIN:VEVENT
DTSTAMP:20260423T173449
DTSTART:20260528T180000
DTEND:20260528T193000
SUMMARY:A Walk Through Tuscany: Grand Cru Hills To Humble Tables
DESCRIPTION:Event Info: https://www.localwineevents.com/view/event/a-walk-through-tuscany-grand-cru-hills-to-humble-tables/1003057
LOCATION:Waterford Wine  Spirits -- 6227 McKee Road Fitchburg, WI 53719 Fitchburg, WI 53179
STATUS:CONFIRMED
SEQUENCE:0
TRANSP:OPAQUE
END:VEVENT
END:VCALENDAR
