BEGIN:VCALENDAR
VERSION:2.0
CALSCALE:GREGORIAN
BEGIN:VEVENT
DTSTAMP:20260423T173505
DTSTART:20260521T180000
DTEND:20260521T193000
SUMMARY:Frogs Leap Winery Tasting With Founding Winemaker John Williams
DESCRIPTION:Event Info: https://www.localwineevents.com/view/event/frogs-leap-winery-tasting-with-founding-winemaker-john-williams/1003054
LOCATION:Waterford Wine  Spirits -- 6227 McKee Road Fitchburg, WI 53719 Fitchburg, WI 53179
STATUS:CONFIRMED
SEQUENCE:0
TRANSP:OPAQUE
END:VEVENT
END:VCALENDAR
