BEGIN:VCALENDAR
VERSION:2.0
CALSCALE:GREGORIAN
BEGIN:VEVENT
DTSTAMP:20260422T143024
DTSTART:20260512T210000
DTEND:20260512T220000
SUMMARY:Caa Rum Society Presents: Bedford Park
DESCRIPTION:Event Info: https://www.localwineevents.com/view/event/caa-rum-society-presents-bedford-park/1003050
LOCATION:Caa Rum Bar -- 714 West Olympic Boulevard Los Angeles, CA 90015
STATUS:CONFIRMED
SEQUENCE:0
TRANSP:OPAQUE
END:VEVENT
END:VCALENDAR
