BEGIN:VCALENDAR
VERSION:2.0
CALSCALE:GREGORIAN
BEGIN:VEVENT
DTSTAMP:20260422T181611
DTSTART:20260512T183000
DTEND:20260512T210000
SUMMARY:In-Person Class:  French Macaron (Seattle)
DESCRIPTION:Event Info: https://www.localwineevents.com/view/event/in-person-class-french-macaron-seattle/1003047
LOCATION:Hampton Inn  Suites by Hilton Seattle/Northgate -- 9550 1st Avenue Northeast Seattle, WA 98115
STATUS:CONFIRMED
SEQUENCE:0
TRANSP:OPAQUE
END:VEVENT
END:VCALENDAR
