BEGIN:VCALENDAR
VERSION:2.0
CALSCALE:GREGORIAN
BEGIN:VEVENT
DTSTAMP:20260424T005839
DTSTART:20260512T174500
DTEND:20260512T190000
SUMMARY:Spice School: Blending Bar (Cambridge)
DESCRIPTION:Event Info: https://www.localwineevents.com/view/event/spice-school-blending-bar-cambridge/1003046
LOCATION:2267 Massachusetts Ave -- 2267 Massachusetts Avenue Cambridge, MA 02140
STATUS:CONFIRMED
SEQUENCE:0
TRANSP:OPAQUE
END:VEVENT
END:VCALENDAR
