BEGIN:VCALENDAR
VERSION:2.0
CALSCALE:GREGORIAN
BEGIN:VEVENT
DTSTAMP:20260423T173337
DTSTART:20260507T180000
DTEND:20260507T193000
SUMMARY:Sunburnt Vines  Ocean Winds: Discovering Australia
DESCRIPTION:Event Info: https://www.localwineevents.com/view/event/sunburnt-vines-ocean-winds-discovering-australia/1003044
LOCATION:Waterford Wine  Spirits -- 6227 McKee Road Fitchburg, WI 53719 Fitchburg, WI 53179
STATUS:CONFIRMED
SEQUENCE:0
TRANSP:OPAQUE
END:VEVENT
END:VCALENDAR
