BEGIN:VCALENDAR
VERSION:2.0
CALSCALE:GREGORIAN
BEGIN:VEVENT
DTSTAMP:20260422T143850
DTSTART:20260512T180000
DTEND:20260512T193000
SUMMARY:Craft Beer  Chocolate Tasting At Victory Brewery Company In Kennett Square
DESCRIPTION:Event Info: https://www.localwineevents.com/view/event/craft-beer-chocolate-tasting-at-victory-brewery-company-in-kennett-square/1003039
LOCATION:Victory Brewing Company Kennett Square -- 650 West Cypress Street Kennett Square, PA 19348
STATUS:CONFIRMED
SEQUENCE:0
TRANSP:OPAQUE
END:VEVENT
END:VCALENDAR
