BEGIN:VCALENDAR
VERSION:2.0
CALSCALE:GREGORIAN
BEGIN:VEVENT
DTSTAMP:20260422T192653
DTSTART:20260512T180000
DTEND:20260512T200000
SUMMARY:Educational Seminar:  Piccini
DESCRIPTION:Event Info: https://www.localwineevents.com/view/event/educational-seminar-piccini/1003036
LOCATION:Cool Springs Wines  Spirits -- 1935 Mallory Lane Franklin, TN 37067
STATUS:CONFIRMED
SEQUENCE:0
TRANSP:OPAQUE
END:VEVENT
END:VCALENDAR
