BEGIN:VCALENDAR
VERSION:2.0
CALSCALE:GREGORIAN
BEGIN:VEVENT
DTSTAMP:20260422T143848
DTSTART:20260512T180000
DTEND:20260512T200000
SUMMARY:Where Conversation Meets Culture With Dr. Kemi Doll
DESCRIPTION:Event Info: https://www.localwineevents.com/view/event/where-conversation-meets-culture-with-dr-kemi-doll/1003031
LOCATION:Honeysuckle Restaurant -- 631 North Broad Street Philadelphia, PA 19123
STATUS:CONFIRMED
SEQUENCE:0
TRANSP:OPAQUE
END:VEVENT
END:VCALENDAR
