BEGIN:VCALENDAR
VERSION:2.0
CALSCALE:GREGORIAN
BEGIN:VEVENT
DTSTAMP:20260422T181610
DTSTART:20260512T160000
DTEND:20260512T190000
SUMMARY:Sip For A Cause: GSBA Pride Event
DESCRIPTION:Event Info: https://www.localwineevents.com/view/event/sip-for-a-cause-gsba-pride-event/1003025
LOCATION:WeRise Wine Bar -- 1913 2nd AVE Seattle, WA 98101
STATUS:CONFIRMED
SEQUENCE:0
TRANSP:OPAQUE
END:VEVENT
END:VCALENDAR
