BEGIN:VCALENDAR
VERSION:2.0
CALSCALE:GREGORIAN
BEGIN:VEVENT
DTSTAMP:20260423T173434
DTSTART:20260512T180000
DTEND:20260512T210000
SUMMARY:Baking With Honeypie Bakeshop | Biscuits Y\'All
DESCRIPTION:Event Info: https://www.localwineevents.com/view/event/baking-with-honeypie-bakeshop-biscuits-yall/1003022
LOCATION:Palomino Bar -- 2491 South Superior Street Milwaukee, WI 53207
STATUS:CONFIRMED
SEQUENCE:0
TRANSP:OPAQUE
END:VEVENT
END:VCALENDAR
