BEGIN:VCALENDAR
VERSION:2.0
CALSCALE:GREGORIAN
BEGIN:VEVENT
DTSTAMP:20260422T143849
DTSTART:20260512T190000
DTEND:20260512T210000
SUMMARY:Roman Night At La Pizza  La Pasta
DESCRIPTION:Event Info: https://www.localwineevents.com/view/event/roman-night-at-la-pizza-la-pasta/1003020
LOCATION:Eataly Los Angeles -- 10250 Santa Monica Boulevard Los Angeles, CA 90067
STATUS:CONFIRMED
SEQUENCE:0
TRANSP:OPAQUE
END:VEVENT
END:VCALENDAR
