BEGIN:VCALENDAR
VERSION:2.0
CALSCALE:GREGORIAN
BEGIN:VEVENT
DTSTAMP:20260424T010608
DTSTART:20260512T180000
DTEND:20260512T193000
SUMMARY:Celebrity Chef Joe Gatto\'s Famous Pasta Class!
DESCRIPTION:Event Info: https://www.localwineevents.com/view/event/celebrity-chef-joe-gattos-famous-pasta-class/1003017
LOCATION:Duck Soup -- 365 Boston Post Road Sudbury, MA 01776
STATUS:CONFIRMED
SEQUENCE:0
TRANSP:OPAQUE
END:VEVENT
END:VCALENDAR
