BEGIN:VCALENDAR
VERSION:2.0
CALSCALE:GREGORIAN
BEGIN:VEVENT
DTSTAMP:20260422T142328
DTSTART:20260512T173000
DTEND:20260512T200000
SUMMARY:LDEI Sacramento Speakers Series WOMEN IN WINE  SAKE
DESCRIPTION:Event Info: https://www.localwineevents.com/view/event/ldei-sacramento-speakers-series-women-in-wine-sake/1003015
LOCATION:Milagro Event Center by Bella Bru -- 6241 Fair Oaks Boulevard Carmichael, CA 95608
STATUS:CONFIRMED
SEQUENCE:0
TRANSP:OPAQUE
END:VEVENT
END:VCALENDAR
