BEGIN:VCALENDAR
VERSION:2.0
CALSCALE:GREGORIAN
BEGIN:VEVENT
DTSTAMP:20260423T085715
DTSTART:20260512T183000
DTEND:20260512T210000
SUMMARY:Vignoble Des Cabottes Wine Dinner
DESCRIPTION:Event Info: https://www.localwineevents.com/view/event/vignoble-des-cabottes-wine-dinner/1003011
LOCATION:Spruce -- 3640 Sacramento Street San Francisco, CA 94118
STATUS:CONFIRMED
SEQUENCE:0
TRANSP:OPAQUE
END:VEVENT
END:VCALENDAR
